0.25000000000000000
0.00000000000000000
0.00000000000000000
-0.25000000000000000
1558000.12500000000000000
5650999.87500000000000000
